BEGIN:VCALENDAR
VERSION:2.0
PRODID:-//HRBA - ECPv5.0.2.1//NONSGML v1.0//EN
CALSCALE:GREGORIAN
METHOD:PUBLISH
X-WR-CALNAME:HRBA
X-ORIGINAL-URL:http://www.hrba.com.au
X-WR-CALDESC:Events for HRBA
BEGIN:VTIMEZONE
TZID:UTC
BEGIN:STANDARD
TZOFFSETFROM:+0000
TZOFFSETTO:+0000
TZNAME:UTC
DTSTART:20190101T000000
END:STANDARD
END:VTIMEZONE
BEGIN:VEVENT
DTSTART;TZID=UTC:20190525T180000
DTEND;TZID=UTC:20190525T230000
DTSTAMP:20200301T155520
CREATED:20190408T002150Z
LAST-MODIFIED:20190408T044036Z
UID:1830-1558807200-1558825200@www.hrba.com.au
SUMMARY:2019 HRBA Charity Gala
DESCRIPTION:  \n \n
URL:http://www.hrba.com.au/event/2019-hrba-charity-gala/
LOCATION:Hamilton Racing Club\, 429 Cavendish Road\, Hamilton\, Victoria\, 3300\, Australia
ORGANIZER;CN="Naomi%20Turner":MAILTO:info@hrba.com.au
END:VEVENT
END:VCALENDAR